BEGIN:VCALENDAR
VERSION:2.0
PRODID:-//CENTRO CULTURA SHAOLIN ITALIA - ECPv6.15.16//NONSGML v1.0//EN
CALSCALE:GREGORIAN
METHOD:PUBLISH
X-ORIGINAL-URL:https://www.culturashaolinitalia.it
X-WR-CALDESC:Eventi per CENTRO CULTURA SHAOLIN ITALIA
REFRESH-INTERVAL;VALUE=DURATION:PT1H
X-Robots-Tag:noindex
X-PUBLISHED-TTL:PT1H
BEGIN:VTIMEZONE
TZID:Europe/Rome
BEGIN:DAYLIGHT
TZOFFSETFROM:+0100
TZOFFSETTO:+0200
TZNAME:CEST
DTSTART:20180325T010000
END:DAYLIGHT
BEGIN:STANDARD
TZOFFSETFROM:+0200
TZOFFSETTO:+0100
TZNAME:CET
DTSTART:20181028T010000
END:STANDARD
BEGIN:DAYLIGHT
TZOFFSETFROM:+0100
TZOFFSETTO:+0200
TZNAME:CEST
DTSTART:20190331T010000
END:DAYLIGHT
BEGIN:STANDARD
TZOFFSETFROM:+0200
TZOFFSETTO:+0100
TZNAME:CET
DTSTART:20191027T010000
END:STANDARD
BEGIN:DAYLIGHT
TZOFFSETFROM:+0100
TZOFFSETTO:+0200
TZNAME:CEST
DTSTART:20200329T010000
END:DAYLIGHT
BEGIN:STANDARD
TZOFFSETFROM:+0200
TZOFFSETTO:+0100
TZNAME:CET
DTSTART:20201025T010000
END:STANDARD
END:VTIMEZONE
BEGIN:VEVENT
DTSTART;TZID=Europe/Rome:20190707T100000
DTEND;TZID=Europe/Rome:20190707T180000
DTSTAMP:20260423T035815
CREATED:20200330T072150Z
LAST-MODIFIED:20200330T075347Z
UID:1044-1562493600-1562522400@www.culturashaolinitalia.it
SUMMARY:Corso Medicina Tradizionale Cinese (M.T.C.) - Roma
DESCRIPTION:II° Corso Biennale di Medicina Tradizionale Cinese Roma – II° anno \nProsegue con interesse\, presso l’Istituto St. Philip School a Roma\, il secondo corso di Medicina Tradizionale Cinese tenuto dal Maestro Shi Yan Hui\, monaco guerriero Shaolin appartenente alla 34^ generazione.Domenica 7 Luglio\, si è tenuta\, prima della pausa estiva di Agosto\, la lezione dedicata a un’antichissima tecnica appartenente alla medicina cinese\, la coppettazione\, anche diffusa in Occidente ma spesso usata senza cognizione dei principi della stessa M.T.C. e per la maggior parte appresa distante dal contesto culturale che l’ha prodotta.Il principio di questa tecnica\, spiega il Maestro con competenza e saggezza\, è quello di creare un afflusso di sangue nelle zone dove vengono applicate le differenti coppette per togliere eccessi di umidità e di fuoco\, equilibrando in questo modo gli squilibri energetici e curando le patologie connesse; inoltre si è soffermato sull’importanza del corretto modo d’uso con indicazioni puntuali sulla modalità di applicazione\, mentre insegna la teoria mostra i differenti metodi di coppettazione con abilità di esecuzione e padronanza del gesto.Per trasmettere la tecnica e al tempo stesso la sua personale esperienza\, si muove su meridiani e punti ben precisi\, ricerca parole essenziali\, incisive\, espressioni efficaci\, metafore\, in grado di creare valore evocativo e racchiudere il sottinteso\, varcando il limite stesso del linguaggio\, di certo usato in modo sapiente\, per arrivare a una dimensione nella quale l’armonia tra scienza\, filosofia\, religione\, è cardine del rapporto indissociabile tra uomo e natura e sorgente di equilibrio tra gli esseri umani e l’universo.
URL:https://www.culturashaolinitalia.it/event/corso-medicina-tradizionale-cinese-m-t-c-roma-6/
LOCATION:Istituto St. Philip School\, Via Appia Nuova 254\, Roma\, 00183\, Italia
CATEGORIES:Corsi MTC
ATTACH;FMTTYPE=image/jpeg:https://www.culturashaolinitalia.it/wp-content/uploads/2020/03/CorsoMTC_loc.jpg
END:VEVENT
END:VCALENDAR