BEGIN:VCALENDAR
VERSION:2.0
PRODID:-//CENTRO CULTURA SHAOLIN ITALIA - ECPv6.15.16//NONSGML v1.0//EN
CALSCALE:GREGORIAN
METHOD:PUBLISH
X-ORIGINAL-URL:https://www.culturashaolinitalia.it
X-WR-CALDESC:Eventi per CENTRO CULTURA SHAOLIN ITALIA
REFRESH-INTERVAL;VALUE=DURATION:PT1H
X-Robots-Tag:noindex
X-PUBLISHED-TTL:PT1H
BEGIN:VTIMEZONE
TZID:Europe/Rome
BEGIN:DAYLIGHT
TZOFFSETFROM:+0100
TZOFFSETTO:+0200
TZNAME:CEST
DTSTART:20190331T010000
END:DAYLIGHT
BEGIN:STANDARD
TZOFFSETFROM:+0200
TZOFFSETTO:+0100
TZNAME:CET
DTSTART:20191027T010000
END:STANDARD
BEGIN:DAYLIGHT
TZOFFSETFROM:+0100
TZOFFSETTO:+0200
TZNAME:CEST
DTSTART:20200329T010000
END:DAYLIGHT
BEGIN:STANDARD
TZOFFSETFROM:+0200
TZOFFSETTO:+0100
TZNAME:CET
DTSTART:20201025T010000
END:STANDARD
BEGIN:DAYLIGHT
TZOFFSETFROM:+0100
TZOFFSETTO:+0200
TZNAME:CEST
DTSTART:20210328T010000
END:DAYLIGHT
BEGIN:STANDARD
TZOFFSETFROM:+0200
TZOFFSETTO:+0100
TZNAME:CET
DTSTART:20211031T010000
END:STANDARD
END:VTIMEZONE
BEGIN:VEVENT
DTSTART;VALUE=DATE:20200209
DTEND;VALUE=DATE:20200210
DTSTAMP:20260422T191347
CREATED:20200206T001014Z
LAST-MODIFIED:20200327T170904Z
UID:666-1581206400-1581292799@www.culturashaolinitalia.it
SUMMARY:Corso Medicina Tradizionale Cinese (M.T.C.) - Roma
DESCRIPTION:III° Corso Biennale di Medicina Tradizionale Cinese (M.T.C.) – I° anno
URL:https://www.culturashaolinitalia.it/event/iii-corso-biennale-di-medicina-tradizionale-cinese-m-t-c-i-anno/
LOCATION:Istituto St. Philip School\, Via Appia Nuova 254\, Roma\, 00183\, Italia
CATEGORIES:Corsi MTC
END:VEVENT
BEGIN:VEVENT
DTSTART;VALUE=DATE:20200215
DTEND;VALUE=DATE:20200216
DTSTAMP:20260422T191347
CREATED:20200206T001238Z
LAST-MODIFIED:20200206T001256Z
UID:668-1581724800-1581811199@www.culturashaolinitalia.it
SUMMARY:Corso Medicina Tradizionale Cinese (M.T.C.) - Siena
DESCRIPTION:
URL:https://www.culturashaolinitalia.it/event/corso-medicina-tradizionale-cinese-m-t-c/
LOCATION:CO.TA.S.\, Viale Europa\, 21\, Siena\, 53100\, Italia
CATEGORIES:Corsi MTC
END:VEVENT
END:VCALENDAR