BEGIN:VCALENDAR
VERSION:2.0
PRODID:-//CENTRO CULTURA SHAOLIN ITALIA - ECPv6.15.16//NONSGML v1.0//EN
CALSCALE:GREGORIAN
METHOD:PUBLISH
X-ORIGINAL-URL:https://www.culturashaolinitalia.it
X-WR-CALDESC:Eventi per CENTRO CULTURA SHAOLIN ITALIA
REFRESH-INTERVAL;VALUE=DURATION:PT1H
X-Robots-Tag:noindex
X-PUBLISHED-TTL:PT1H
BEGIN:VTIMEZONE
TZID:Europe/Rome
BEGIN:DAYLIGHT
TZOFFSETFROM:+0100
TZOFFSETTO:+0200
TZNAME:CEST
DTSTART:20180325T010000
END:DAYLIGHT
BEGIN:STANDARD
TZOFFSETFROM:+0200
TZOFFSETTO:+0100
TZNAME:CET
DTSTART:20181028T010000
END:STANDARD
BEGIN:DAYLIGHT
TZOFFSETFROM:+0100
TZOFFSETTO:+0200
TZNAME:CEST
DTSTART:20190331T010000
END:DAYLIGHT
BEGIN:STANDARD
TZOFFSETFROM:+0200
TZOFFSETTO:+0100
TZNAME:CET
DTSTART:20191027T010000
END:STANDARD
BEGIN:DAYLIGHT
TZOFFSETFROM:+0100
TZOFFSETTO:+0200
TZNAME:CEST
DTSTART:20200329T010000
END:DAYLIGHT
BEGIN:STANDARD
TZOFFSETFROM:+0200
TZOFFSETTO:+0100
TZNAME:CET
DTSTART:20201025T010000
END:STANDARD
END:VTIMEZONE
BEGIN:VEVENT
DTSTART;TZID=Europe/Rome:20190224T100000
DTEND;TZID=Europe/Rome:20190224T180000
DTSTAMP:20260423T112711
CREATED:20200327T181719Z
LAST-MODIFIED:20200330T065640Z
UID:856-1551002400-1551031200@www.culturashaolinitalia.it
SUMMARY:Corso Medicina Tradizionale Cinese (M.T.C.) - Roma
DESCRIPTION:II° Corso Biennale di Medicina Tradizionale Cinese Roma – II° anno \nDomenica 24 Febbraio 2019\, a Roma\, presso l’Istituto St. Philip School\, il Maestro Shi Yan Hui\, ha tenuto la lezione del secondo Corso di Medicina Tradizionale Cinese (MTC).Nella lezione è stato approfondito l’argomento riferito alle patologie dei fluidi (muco umido)\, quindi lo squilibrio Yin e Yang\, le cause principali che influenzano la nostra salute con le indicazioni dei metodi di cura.La parte teorica è stata molto interessante e coinvolgente perché densa di informazioni veicolate con generosità dal Maestro agli alunni del corso.Con grande attenzione i partecipanti hanno seguito il suo insegnamento cercando di fare propri i principi di base e sviluppare un processo di ampliamento conoscitivo.Durante il pomeriggio\, il Maestro ha collegato la teoria alla pratica mostrando i primi movimenti Yijinjing necessari per l’allungamento del Jin\, per rafforzare gli organi interni e i visceri\, per la costruzione di una corretta circolazione del QI nel corpo\, per regolare lo Yin e lo Yang\, insomma\, per prevenire e curare malattie.I partecipanti hanno potuto constatare la corrispondenza tra la teoria e l’esercizio stesso\, sperimentandone in modo diretto gli effetti benefici.Il Maestro Shi Yan Hui\, portatore del patrimonio orale della cultura millenaria Shaolin\, che spesso sottende concetti astratti\, fa ricorso a metafore\, quale pure carattere precipuo della Cultura Tradizionale Cinese stessa\, per far emergere la natura profonda delle cose\, superando in tal modo i vincoli linguistici\, cosicché la parola diventa poesia e comunica l’arte in una composizione unitaria. \n 
URL:https://www.culturashaolinitalia.it/event/corso-medicina-tradizionale-cinese-m-t-c-roma/
LOCATION:Istituto St. Philip School\, Via Appia Nuova 254\, Roma\, 00183\, Italia
CATEGORIES:Corsi MTC
ATTACH;FMTTYPE=image/jpeg:https://www.culturashaolinitalia.it/wp-content/uploads/2020/03/CorsoMTC_loc.jpg
END:VEVENT
END:VCALENDAR