BEGIN:VCALENDAR
VERSION:2.0
PRODID:-//CENTRO CULTURA SHAOLIN ITALIA - ECPv6.15.16//NONSGML v1.0//EN
CALSCALE:GREGORIAN
METHOD:PUBLISH
X-WR-CALNAME:CENTRO CULTURA SHAOLIN ITALIA
X-ORIGINAL-URL:https://www.culturashaolinitalia.it
X-WR-CALDESC:Eventi per CENTRO CULTURA SHAOLIN ITALIA
REFRESH-INTERVAL;VALUE=DURATION:PT1H
X-Robots-Tag:noindex
X-PUBLISHED-TTL:PT1H
BEGIN:VTIMEZONE
TZID:Europe/Rome
BEGIN:DAYLIGHT
TZOFFSETFROM:+0100
TZOFFSETTO:+0200
TZNAME:CEST
DTSTART:20180325T010000
END:DAYLIGHT
BEGIN:STANDARD
TZOFFSETFROM:+0200
TZOFFSETTO:+0100
TZNAME:CET
DTSTART:20181028T010000
END:STANDARD
BEGIN:DAYLIGHT
TZOFFSETFROM:+0100
TZOFFSETTO:+0200
TZNAME:CEST
DTSTART:20190331T010000
END:DAYLIGHT
BEGIN:STANDARD
TZOFFSETFROM:+0200
TZOFFSETTO:+0100
TZNAME:CET
DTSTART:20191027T010000
END:STANDARD
BEGIN:DAYLIGHT
TZOFFSETFROM:+0100
TZOFFSETTO:+0200
TZNAME:CEST
DTSTART:20200329T010000
END:DAYLIGHT
BEGIN:STANDARD
TZOFFSETFROM:+0200
TZOFFSETTO:+0100
TZNAME:CET
DTSTART:20201025T010000
END:STANDARD
END:VTIMEZONE
BEGIN:VEVENT
DTSTART;TZID=Europe/Rome:20190324T100000
DTEND;TZID=Europe/Rome:20190324T180000
DTSTAMP:20260423T100451
CREATED:20200329T200157Z
LAST-MODIFIED:20200330T065744Z
UID:944-1553421600-1553450400@www.culturashaolinitalia.it
SUMMARY:Corso Medicina Tradizionale Cinese (M.T.C.) - Roma
DESCRIPTION:II° Corso Biennale di Medicina Tradizionale Cinese Roma – II° anno \nDomenica 24 Marzo 2019\, il Maestro Shi Yan Hui ha tenuto la lezione del secondo corso di Medicina Tradizionale Cinese (MTC)\, presso l’Istituto St. Philip School a Roma.È stato analizzato l’argomento del complesso utilizzo del Tuina\, un metodo terapeutico di massaggio appartenente alla medicina cinese per la cura della salute\, conosciuto e praticato anche in Occidente ma sovente privo di un così stretto approfondimento teorico e sprovvisto della sua identità culturale e storica.Durante la spiegazione e la prova pratica\, il Maestro ha sottolineato come sia necessario\, oltre la fondamentale conoscenza dei meridiani e dei punti\, un attento studio dell’individio e una corretta impostazione del trattamento con altrettanta capacità di esecuzione delle manovre.In sintesi\, innanzi tutto l’analisi\, poi la tecnica\, ovvero dopo la fase di valutazione finalizzata a sviluppare un protocollo terapeutico adeguato alle necessità dell’individuo\, bisogna essere in grado di eseguire i differenti tipi di manovre.Infatti\, il Tuina\, antico massaggio tradizionale cinese\, citato nei migliori testi classici di medicina\, richiede un percorso di formazione approfondito attraverso una guida sapiente per essere tramandato senza disperderne il suo valore\, afferma il Maestro\, Monaco Shaolin\, permeato da questi insegnamenti del Tempio spiegati per via orale con somma esperienza.Nel pomeriggio\, collegandosi alla lezione tenuta\, ha parlato del Qi Gong che\, insieme al massaggio Tuina\, sono al centro della Medicina Tradizionale Cinese\, illustrando alcuni movimenti Yi Jin Jing\, da utilizzare come strumento per prevenire e curare malattie; in effetti\, la pratica costante\, ribadisce\, porta ogni individuo a trovare il benessere completo che interessa il corpo\, il cuore e la mente.Il Tuina e il Qi Gong sono metodi molto collegati tra loro\, uno per curare gli altri\, il secondo per curare sé stessi\, ma a tutto questo si lega anche l’arte marziale e il Chan.Proprio per comprendere i tanti riferimenti è importante avere un buon insegnante che permetta di addentrarsi nei dettagli e nella profondità di tutta la sapienza raccolta negli anni: il Maestro Shi Yan Hui\, Monaco Shaolin\, offre la possibilità di accedere alle conoscenze tramandate a voce testimoniando la bellezza di questa cultura e il valore dei monaci guerrieri.
URL:https://www.culturashaolinitalia.it/event/corso-medicina-tradizionale-cinese-m-t-c-roma-2/
LOCATION:Istituto St. Philip School\, Via Appia Nuova 254\, Roma\, 00183\, Italia
CATEGORIES:Corsi MTC
ATTACH;FMTTYPE=image/jpeg:https://www.culturashaolinitalia.it/wp-content/uploads/2020/03/CorsoMTC_loc.jpg
END:VEVENT
END:VCALENDAR