BEGIN:VCALENDAR
VERSION:2.0
PRODID:-//CENTRO CULTURA SHAOLIN ITALIA - ECPv6.15.16//NONSGML v1.0//EN
CALSCALE:GREGORIAN
METHOD:PUBLISH
X-WR-CALNAME:CENTRO CULTURA SHAOLIN ITALIA
X-ORIGINAL-URL:https://www.culturashaolinitalia.it
X-WR-CALDESC:Eventi per CENTRO CULTURA SHAOLIN ITALIA
REFRESH-INTERVAL;VALUE=DURATION:PT1H
X-Robots-Tag:noindex
X-PUBLISHED-TTL:PT1H
BEGIN:VTIMEZONE
TZID:Europe/Rome
BEGIN:DAYLIGHT
TZOFFSETFROM:+0100
TZOFFSETTO:+0200
TZNAME:CEST
DTSTART:20180325T010000
END:DAYLIGHT
BEGIN:STANDARD
TZOFFSETFROM:+0200
TZOFFSETTO:+0100
TZNAME:CET
DTSTART:20181028T010000
END:STANDARD
BEGIN:DAYLIGHT
TZOFFSETFROM:+0100
TZOFFSETTO:+0200
TZNAME:CEST
DTSTART:20190331T010000
END:DAYLIGHT
BEGIN:STANDARD
TZOFFSETFROM:+0200
TZOFFSETTO:+0100
TZNAME:CET
DTSTART:20191027T010000
END:STANDARD
BEGIN:DAYLIGHT
TZOFFSETFROM:+0100
TZOFFSETTO:+0200
TZNAME:CEST
DTSTART:20200329T010000
END:DAYLIGHT
BEGIN:STANDARD
TZOFFSETFROM:+0200
TZOFFSETTO:+0100
TZNAME:CET
DTSTART:20201025T010000
END:STANDARD
END:VTIMEZONE
BEGIN:VEVENT
DTSTART;TZID=Europe/Rome:20191123T100000
DTEND;TZID=Europe/Rome:20191123T180000
DTSTAMP:20260423T001027
CREATED:20200330T083044Z
LAST-MODIFIED:20200330T083149Z
UID:1113-1574503200-1574532000@www.culturashaolinitalia.it
SUMMARY:Corso Medicina Tradizionale Cinese (M.T.C.) - Milano
DESCRIPTION:
URL:https://www.culturashaolinitalia.it/event/corso-medicina-tradizionale-cinese-m-t-c-milano-3/
LOCATION:Milano Tango Loft\, Via Lorenteggio\, 157\, Milano\, 20146\, Italia
CATEGORIES:Corsi MTC
ATTACH;FMTTYPE=image/jpeg:https://www.culturashaolinitalia.it/wp-content/uploads/2020/02/IMG-20190622-WA0014_pic.jpg
END:VEVENT
END:VCALENDAR